BEGIN:VCALENDAR
VERSION:2.0
PRODID:-//Rock Creek Golf Club - ECPv6.15.20//NONSGML v1.0//EN
CALSCALE:GREGORIAN
METHOD:PUBLISH
X-WR-CALNAME:Rock Creek Golf Club
X-ORIGINAL-URL:https://rockcreekgolf.com
X-WR-CALDESC:Events for Rock Creek Golf Club
REFRESH-INTERVAL;VALUE=DURATION:PT1H
X-Robots-Tag:noindex
X-PUBLISHED-TTL:PT1H
BEGIN:VTIMEZONE
TZID:UTC
BEGIN:STANDARD
TZOFFSETFROM:+0000
TZOFFSETTO:+0000
TZNAME:UTC
DTSTART:20280101T000000
END:STANDARD
END:VTIMEZONE
BEGIN:VEVENT
DTSTART;VALUE=DATE:20290501
DTEND;VALUE=DATE:20290502
DTSTAMP:20260423T115722
CREATED:20250710T123317Z
LAST-MODIFIED:20250710T123317Z
UID:10000582-1872288000-1872374399@rockcreekgolf.com
SUMMARY:Tee off with Gratitude
DESCRIPTION:Tee off with Gratitude at Rock Creek \n• • • • • \nSpecial tee time rates for Senior\, Military\, and First Responder every Tuesday and Thursday. \n  \nThis summer\, we’re excited to offer special golf rates every Tuesday and Thursday\, all day long\, exclusively for seniors\, military personnel\, and first responders. \nThese rates will change and are only available when you call the Pro Shop! \nCall the Pro Shop today at (251) 928-4223 to book!
URL:https://rockcreekgolf.com/event/tee-off-with-gratitude/2029-05-01/
END:VEVENT
BEGIN:VEVENT
DTSTART;VALUE=DATE:20290503
DTEND;VALUE=DATE:20290504
DTSTAMP:20260423T115722
CREATED:20250710T123317Z
LAST-MODIFIED:20250710T123317Z
UID:10000583-1872460800-1872547199@rockcreekgolf.com
SUMMARY:Tee off with Gratitude
DESCRIPTION:Tee off with Gratitude at Rock Creek \n• • • • • \nSpecial tee time rates for Senior\, Military\, and First Responder every Tuesday and Thursday. \n  \nThis summer\, we’re excited to offer special golf rates every Tuesday and Thursday\, all day long\, exclusively for seniors\, military personnel\, and first responders. \nThese rates will change and are only available when you call the Pro Shop! \nCall the Pro Shop today at (251) 928-4223 to book!
URL:https://rockcreekgolf.com/event/tee-off-with-gratitude/2029-05-03/
END:VEVENT
BEGIN:VEVENT
DTSTART;VALUE=DATE:20290508
DTEND;VALUE=DATE:20290509
DTSTAMP:20260423T115722
CREATED:20250710T123317Z
LAST-MODIFIED:20250710T123317Z
UID:10000584-1872892800-1872979199@rockcreekgolf.com
SUMMARY:Tee off with Gratitude
DESCRIPTION:Tee off with Gratitude at Rock Creek \n• • • • • \nSpecial tee time rates for Senior\, Military\, and First Responder every Tuesday and Thursday. \n  \nThis summer\, we’re excited to offer special golf rates every Tuesday and Thursday\, all day long\, exclusively for seniors\, military personnel\, and first responders. \nThese rates will change and are only available when you call the Pro Shop! \nCall the Pro Shop today at (251) 928-4223 to book!
URL:https://rockcreekgolf.com/event/tee-off-with-gratitude/2029-05-08/
END:VEVENT
BEGIN:VEVENT
DTSTART;VALUE=DATE:20290510
DTEND;VALUE=DATE:20290511
DTSTAMP:20260423T115722
CREATED:20250710T123317Z
LAST-MODIFIED:20250710T123317Z
UID:10000585-1873065600-1873151999@rockcreekgolf.com
SUMMARY:Tee off with Gratitude
DESCRIPTION:Tee off with Gratitude at Rock Creek \n• • • • • \nSpecial tee time rates for Senior\, Military\, and First Responder every Tuesday and Thursday. \n  \nThis summer\, we’re excited to offer special golf rates every Tuesday and Thursday\, all day long\, exclusively for seniors\, military personnel\, and first responders. \nThese rates will change and are only available when you call the Pro Shop! \nCall the Pro Shop today at (251) 928-4223 to book!
URL:https://rockcreekgolf.com/event/tee-off-with-gratitude/2029-05-10/
END:VEVENT
BEGIN:VEVENT
DTSTART;VALUE=DATE:20290515
DTEND;VALUE=DATE:20290516
DTSTAMP:20260423T115722
CREATED:20250710T123317Z
LAST-MODIFIED:20250710T123317Z
UID:10000586-1873497600-1873583999@rockcreekgolf.com
SUMMARY:Tee off with Gratitude
DESCRIPTION:Tee off with Gratitude at Rock Creek \n• • • • • \nSpecial tee time rates for Senior\, Military\, and First Responder every Tuesday and Thursday. \n  \nThis summer\, we’re excited to offer special golf rates every Tuesday and Thursday\, all day long\, exclusively for seniors\, military personnel\, and first responders. \nThese rates will change and are only available when you call the Pro Shop! \nCall the Pro Shop today at (251) 928-4223 to book!
URL:https://rockcreekgolf.com/event/tee-off-with-gratitude/2029-05-15/
END:VEVENT
BEGIN:VEVENT
DTSTART;VALUE=DATE:20290517
DTEND;VALUE=DATE:20290518
DTSTAMP:20260423T115722
CREATED:20250710T123317Z
LAST-MODIFIED:20250710T123317Z
UID:10000587-1873670400-1873756799@rockcreekgolf.com
SUMMARY:Tee off with Gratitude
DESCRIPTION:Tee off with Gratitude at Rock Creek \n• • • • • \nSpecial tee time rates for Senior\, Military\, and First Responder every Tuesday and Thursday. \n  \nThis summer\, we’re excited to offer special golf rates every Tuesday and Thursday\, all day long\, exclusively for seniors\, military personnel\, and first responders. \nThese rates will change and are only available when you call the Pro Shop! \nCall the Pro Shop today at (251) 928-4223 to book!
URL:https://rockcreekgolf.com/event/tee-off-with-gratitude/2029-05-17/
END:VEVENT
BEGIN:VEVENT
DTSTART;VALUE=DATE:20290522
DTEND;VALUE=DATE:20290523
DTSTAMP:20260423T115722
CREATED:20250710T123317Z
LAST-MODIFIED:20250710T123317Z
UID:10000588-1874102400-1874188799@rockcreekgolf.com
SUMMARY:Tee off with Gratitude
DESCRIPTION:Tee off with Gratitude at Rock Creek \n• • • • • \nSpecial tee time rates for Senior\, Military\, and First Responder every Tuesday and Thursday. \n  \nThis summer\, we’re excited to offer special golf rates every Tuesday and Thursday\, all day long\, exclusively for seniors\, military personnel\, and first responders. \nThese rates will change and are only available when you call the Pro Shop! \nCall the Pro Shop today at (251) 928-4223 to book!
URL:https://rockcreekgolf.com/event/tee-off-with-gratitude/2029-05-22/
END:VEVENT
BEGIN:VEVENT
DTSTART;VALUE=DATE:20290524
DTEND;VALUE=DATE:20290525
DTSTAMP:20260423T115722
CREATED:20250710T123317Z
LAST-MODIFIED:20250710T123317Z
UID:10000589-1874275200-1874361599@rockcreekgolf.com
SUMMARY:Tee off with Gratitude
DESCRIPTION:Tee off with Gratitude at Rock Creek \n• • • • • \nSpecial tee time rates for Senior\, Military\, and First Responder every Tuesday and Thursday. \n  \nThis summer\, we’re excited to offer special golf rates every Tuesday and Thursday\, all day long\, exclusively for seniors\, military personnel\, and first responders. \nThese rates will change and are only available when you call the Pro Shop! \nCall the Pro Shop today at (251) 928-4223 to book!
URL:https://rockcreekgolf.com/event/tee-off-with-gratitude/2029-05-24/
END:VEVENT
BEGIN:VEVENT
DTSTART;VALUE=DATE:20290529
DTEND;VALUE=DATE:20290530
DTSTAMP:20260423T115722
CREATED:20250710T123317Z
LAST-MODIFIED:20250710T123317Z
UID:10000590-1874707200-1874793599@rockcreekgolf.com
SUMMARY:Tee off with Gratitude
DESCRIPTION:Tee off with Gratitude at Rock Creek \n• • • • • \nSpecial tee time rates for Senior\, Military\, and First Responder every Tuesday and Thursday. \n  \nThis summer\, we’re excited to offer special golf rates every Tuesday and Thursday\, all day long\, exclusively for seniors\, military personnel\, and first responders. \nThese rates will change and are only available when you call the Pro Shop! \nCall the Pro Shop today at (251) 928-4223 to book!
URL:https://rockcreekgolf.com/event/tee-off-with-gratitude/2029-05-29/
END:VEVENT
BEGIN:VEVENT
DTSTART;VALUE=DATE:20290531
DTEND;VALUE=DATE:20290601
DTSTAMP:20260423T115722
CREATED:20250710T123317Z
LAST-MODIFIED:20250710T123317Z
UID:10000591-1874880000-1874966399@rockcreekgolf.com
SUMMARY:Tee off with Gratitude
DESCRIPTION:Tee off with Gratitude at Rock Creek \n• • • • • \nSpecial tee time rates for Senior\, Military\, and First Responder every Tuesday and Thursday. \n  \nThis summer\, we’re excited to offer special golf rates every Tuesday and Thursday\, all day long\, exclusively for seniors\, military personnel\, and first responders. \nThese rates will change and are only available when you call the Pro Shop! \nCall the Pro Shop today at (251) 928-4223 to book!
URL:https://rockcreekgolf.com/event/tee-off-with-gratitude/2029-05-31/
END:VEVENT
BEGIN:VEVENT
DTSTART;VALUE=DATE:20290605
DTEND;VALUE=DATE:20290606
DTSTAMP:20260423T115722
CREATED:20250710T123317Z
LAST-MODIFIED:20250710T123317Z
UID:10000592-1875312000-1875398399@rockcreekgolf.com
SUMMARY:Tee off with Gratitude
DESCRIPTION:Tee off with Gratitude at Rock Creek \n• • • • • \nSpecial tee time rates for Senior\, Military\, and First Responder every Tuesday and Thursday. \n  \nThis summer\, we’re excited to offer special golf rates every Tuesday and Thursday\, all day long\, exclusively for seniors\, military personnel\, and first responders. \nThese rates will change and are only available when you call the Pro Shop! \nCall the Pro Shop today at (251) 928-4223 to book!
URL:https://rockcreekgolf.com/event/tee-off-with-gratitude/2029-06-05/
END:VEVENT
BEGIN:VEVENT
DTSTART;VALUE=DATE:20290607
DTEND;VALUE=DATE:20290608
DTSTAMP:20260423T115722
CREATED:20250710T123317Z
LAST-MODIFIED:20250710T123317Z
UID:10000593-1875484800-1875571199@rockcreekgolf.com
SUMMARY:Tee off with Gratitude
DESCRIPTION:Tee off with Gratitude at Rock Creek \n• • • • • \nSpecial tee time rates for Senior\, Military\, and First Responder every Tuesday and Thursday. \n  \nThis summer\, we’re excited to offer special golf rates every Tuesday and Thursday\, all day long\, exclusively for seniors\, military personnel\, and first responders. \nThese rates will change and are only available when you call the Pro Shop! \nCall the Pro Shop today at (251) 928-4223 to book!
URL:https://rockcreekgolf.com/event/tee-off-with-gratitude/2029-06-07/
END:VEVENT
BEGIN:VEVENT
DTSTART;VALUE=DATE:20290612
DTEND;VALUE=DATE:20290613
DTSTAMP:20260423T115722
CREATED:20250710T123317Z
LAST-MODIFIED:20250710T123317Z
UID:10000594-1875916800-1876003199@rockcreekgolf.com
SUMMARY:Tee off with Gratitude
DESCRIPTION:Tee off with Gratitude at Rock Creek \n• • • • • \nSpecial tee time rates for Senior\, Military\, and First Responder every Tuesday and Thursday. \n  \nThis summer\, we’re excited to offer special golf rates every Tuesday and Thursday\, all day long\, exclusively for seniors\, military personnel\, and first responders. \nThese rates will change and are only available when you call the Pro Shop! \nCall the Pro Shop today at (251) 928-4223 to book!
URL:https://rockcreekgolf.com/event/tee-off-with-gratitude/2029-06-12/
END:VEVENT
BEGIN:VEVENT
DTSTART;VALUE=DATE:20290614
DTEND;VALUE=DATE:20290615
DTSTAMP:20260423T115722
CREATED:20250710T123317Z
LAST-MODIFIED:20250710T123317Z
UID:10000595-1876089600-1876175999@rockcreekgolf.com
SUMMARY:Tee off with Gratitude
DESCRIPTION:Tee off with Gratitude at Rock Creek \n• • • • • \nSpecial tee time rates for Senior\, Military\, and First Responder every Tuesday and Thursday. \n  \nThis summer\, we’re excited to offer special golf rates every Tuesday and Thursday\, all day long\, exclusively for seniors\, military personnel\, and first responders. \nThese rates will change and are only available when you call the Pro Shop! \nCall the Pro Shop today at (251) 928-4223 to book!
URL:https://rockcreekgolf.com/event/tee-off-with-gratitude/2029-06-14/
END:VEVENT
BEGIN:VEVENT
DTSTART;VALUE=DATE:20290619
DTEND;VALUE=DATE:20290620
DTSTAMP:20260423T115722
CREATED:20250710T123317Z
LAST-MODIFIED:20250710T123317Z
UID:10000596-1876521600-1876607999@rockcreekgolf.com
SUMMARY:Tee off with Gratitude
DESCRIPTION:Tee off with Gratitude at Rock Creek \n• • • • • \nSpecial tee time rates for Senior\, Military\, and First Responder every Tuesday and Thursday. \n  \nThis summer\, we’re excited to offer special golf rates every Tuesday and Thursday\, all day long\, exclusively for seniors\, military personnel\, and first responders. \nThese rates will change and are only available when you call the Pro Shop! \nCall the Pro Shop today at (251) 928-4223 to book!
URL:https://rockcreekgolf.com/event/tee-off-with-gratitude/2029-06-19/
END:VEVENT
BEGIN:VEVENT
DTSTART;VALUE=DATE:20290621
DTEND;VALUE=DATE:20290622
DTSTAMP:20260423T115722
CREATED:20250710T123317Z
LAST-MODIFIED:20250710T123317Z
UID:10000597-1876694400-1876780799@rockcreekgolf.com
SUMMARY:Tee off with Gratitude
DESCRIPTION:Tee off with Gratitude at Rock Creek \n• • • • • \nSpecial tee time rates for Senior\, Military\, and First Responder every Tuesday and Thursday. \n  \nThis summer\, we’re excited to offer special golf rates every Tuesday and Thursday\, all day long\, exclusively for seniors\, military personnel\, and first responders. \nThese rates will change and are only available when you call the Pro Shop! \nCall the Pro Shop today at (251) 928-4223 to book!
URL:https://rockcreekgolf.com/event/tee-off-with-gratitude/2029-06-21/
END:VEVENT
BEGIN:VEVENT
DTSTART;VALUE=DATE:20290626
DTEND;VALUE=DATE:20290627
DTSTAMP:20260423T115722
CREATED:20250710T123317Z
LAST-MODIFIED:20250710T123317Z
UID:10000598-1877126400-1877212799@rockcreekgolf.com
SUMMARY:Tee off with Gratitude
DESCRIPTION:Tee off with Gratitude at Rock Creek \n• • • • • \nSpecial tee time rates for Senior\, Military\, and First Responder every Tuesday and Thursday. \n  \nThis summer\, we’re excited to offer special golf rates every Tuesday and Thursday\, all day long\, exclusively for seniors\, military personnel\, and first responders. \nThese rates will change and are only available when you call the Pro Shop! \nCall the Pro Shop today at (251) 928-4223 to book!
URL:https://rockcreekgolf.com/event/tee-off-with-gratitude/2029-06-26/
END:VEVENT
BEGIN:VEVENT
DTSTART;VALUE=DATE:20290628
DTEND;VALUE=DATE:20290629
DTSTAMP:20260423T115722
CREATED:20250710T123317Z
LAST-MODIFIED:20250710T123317Z
UID:10000599-1877299200-1877385599@rockcreekgolf.com
SUMMARY:Tee off with Gratitude
DESCRIPTION:Tee off with Gratitude at Rock Creek \n• • • • • \nSpecial tee time rates for Senior\, Military\, and First Responder every Tuesday and Thursday. \n  \nThis summer\, we’re excited to offer special golf rates every Tuesday and Thursday\, all day long\, exclusively for seniors\, military personnel\, and first responders. \nThese rates will change and are only available when you call the Pro Shop! \nCall the Pro Shop today at (251) 928-4223 to book!
URL:https://rockcreekgolf.com/event/tee-off-with-gratitude/2029-06-28/
END:VEVENT
BEGIN:VEVENT
DTSTART;VALUE=DATE:20290703
DTEND;VALUE=DATE:20290704
DTSTAMP:20260423T115722
CREATED:20250710T123317Z
LAST-MODIFIED:20250710T123317Z
UID:10000600-1877731200-1877817599@rockcreekgolf.com
SUMMARY:Tee off with Gratitude
DESCRIPTION:Tee off with Gratitude at Rock Creek \n• • • • • \nSpecial tee time rates for Senior\, Military\, and First Responder every Tuesday and Thursday. \n  \nThis summer\, we’re excited to offer special golf rates every Tuesday and Thursday\, all day long\, exclusively for seniors\, military personnel\, and first responders. \nThese rates will change and are only available when you call the Pro Shop! \nCall the Pro Shop today at (251) 928-4223 to book!
URL:https://rockcreekgolf.com/event/tee-off-with-gratitude/2029-07-03/
END:VEVENT
BEGIN:VEVENT
DTSTART;VALUE=DATE:20290705
DTEND;VALUE=DATE:20290706
DTSTAMP:20260423T115722
CREATED:20250710T123317Z
LAST-MODIFIED:20250710T123317Z
UID:10000601-1877904000-1877990399@rockcreekgolf.com
SUMMARY:Tee off with Gratitude
DESCRIPTION:Tee off with Gratitude at Rock Creek \n• • • • • \nSpecial tee time rates for Senior\, Military\, and First Responder every Tuesday and Thursday. \n  \nThis summer\, we’re excited to offer special golf rates every Tuesday and Thursday\, all day long\, exclusively for seniors\, military personnel\, and first responders. \nThese rates will change and are only available when you call the Pro Shop! \nCall the Pro Shop today at (251) 928-4223 to book!
URL:https://rockcreekgolf.com/event/tee-off-with-gratitude/2029-07-05/
END:VEVENT
BEGIN:VEVENT
DTSTART;VALUE=DATE:20290710
DTEND;VALUE=DATE:20290711
DTSTAMP:20260423T115722
CREATED:20250710T123317Z
LAST-MODIFIED:20250710T123317Z
UID:10000602-1878336000-1878422399@rockcreekgolf.com
SUMMARY:Tee off with Gratitude
DESCRIPTION:Tee off with Gratitude at Rock Creek \n• • • • • \nSpecial tee time rates for Senior\, Military\, and First Responder every Tuesday and Thursday. \n  \nThis summer\, we’re excited to offer special golf rates every Tuesday and Thursday\, all day long\, exclusively for seniors\, military personnel\, and first responders. \nThese rates will change and are only available when you call the Pro Shop! \nCall the Pro Shop today at (251) 928-4223 to book!
URL:https://rockcreekgolf.com/event/tee-off-with-gratitude/2029-07-10/
END:VEVENT
BEGIN:VEVENT
DTSTART;VALUE=DATE:20290712
DTEND;VALUE=DATE:20290713
DTSTAMP:20260423T115722
CREATED:20250710T123317Z
LAST-MODIFIED:20250710T123317Z
UID:10000603-1878508800-1878595199@rockcreekgolf.com
SUMMARY:Tee off with Gratitude
DESCRIPTION:Tee off with Gratitude at Rock Creek \n• • • • • \nSpecial tee time rates for Senior\, Military\, and First Responder every Tuesday and Thursday. \n  \nThis summer\, we’re excited to offer special golf rates every Tuesday and Thursday\, all day long\, exclusively for seniors\, military personnel\, and first responders. \nThese rates will change and are only available when you call the Pro Shop! \nCall the Pro Shop today at (251) 928-4223 to book!
URL:https://rockcreekgolf.com/event/tee-off-with-gratitude/2029-07-12/
END:VEVENT
BEGIN:VEVENT
DTSTART;VALUE=DATE:20290717
DTEND;VALUE=DATE:20290718
DTSTAMP:20260423T115722
CREATED:20250710T123317Z
LAST-MODIFIED:20250710T123317Z
UID:10000604-1878940800-1879027199@rockcreekgolf.com
SUMMARY:Tee off with Gratitude
DESCRIPTION:Tee off with Gratitude at Rock Creek \n• • • • • \nSpecial tee time rates for Senior\, Military\, and First Responder every Tuesday and Thursday. \n  \nThis summer\, we’re excited to offer special golf rates every Tuesday and Thursday\, all day long\, exclusively for seniors\, military personnel\, and first responders. \nThese rates will change and are only available when you call the Pro Shop! \nCall the Pro Shop today at (251) 928-4223 to book!
URL:https://rockcreekgolf.com/event/tee-off-with-gratitude/2029-07-17/
END:VEVENT
BEGIN:VEVENT
DTSTART;VALUE=DATE:20290719
DTEND;VALUE=DATE:20290720
DTSTAMP:20260423T115722
CREATED:20250710T123317Z
LAST-MODIFIED:20250710T123317Z
UID:10000605-1879113600-1879199999@rockcreekgolf.com
SUMMARY:Tee off with Gratitude
DESCRIPTION:Tee off with Gratitude at Rock Creek \n• • • • • \nSpecial tee time rates for Senior\, Military\, and First Responder every Tuesday and Thursday. \n  \nThis summer\, we’re excited to offer special golf rates every Tuesday and Thursday\, all day long\, exclusively for seniors\, military personnel\, and first responders. \nThese rates will change and are only available when you call the Pro Shop! \nCall the Pro Shop today at (251) 928-4223 to book!
URL:https://rockcreekgolf.com/event/tee-off-with-gratitude/2029-07-19/
END:VEVENT
BEGIN:VEVENT
DTSTART;VALUE=DATE:20290724
DTEND;VALUE=DATE:20290725
DTSTAMP:20260423T115722
CREATED:20250710T123317Z
LAST-MODIFIED:20250710T123317Z
UID:10000606-1879545600-1879631999@rockcreekgolf.com
SUMMARY:Tee off with Gratitude
DESCRIPTION:Tee off with Gratitude at Rock Creek \n• • • • • \nSpecial tee time rates for Senior\, Military\, and First Responder every Tuesday and Thursday. \n  \nThis summer\, we’re excited to offer special golf rates every Tuesday and Thursday\, all day long\, exclusively for seniors\, military personnel\, and first responders. \nThese rates will change and are only available when you call the Pro Shop! \nCall the Pro Shop today at (251) 928-4223 to book!
URL:https://rockcreekgolf.com/event/tee-off-with-gratitude/2029-07-24/
END:VEVENT
BEGIN:VEVENT
DTSTART;VALUE=DATE:20290726
DTEND;VALUE=DATE:20290727
DTSTAMP:20260423T115722
CREATED:20250710T123317Z
LAST-MODIFIED:20250710T123317Z
UID:10000607-1879718400-1879804799@rockcreekgolf.com
SUMMARY:Tee off with Gratitude
DESCRIPTION:Tee off with Gratitude at Rock Creek \n• • • • • \nSpecial tee time rates for Senior\, Military\, and First Responder every Tuesday and Thursday. \n  \nThis summer\, we’re excited to offer special golf rates every Tuesday and Thursday\, all day long\, exclusively for seniors\, military personnel\, and first responders. \nThese rates will change and are only available when you call the Pro Shop! \nCall the Pro Shop today at (251) 928-4223 to book!
URL:https://rockcreekgolf.com/event/tee-off-with-gratitude/2029-07-26/
END:VEVENT
BEGIN:VEVENT
DTSTART;VALUE=DATE:20290731
DTEND;VALUE=DATE:20290801
DTSTAMP:20260423T115722
CREATED:20250710T123317Z
LAST-MODIFIED:20250710T123317Z
UID:10000608-1880150400-1880236799@rockcreekgolf.com
SUMMARY:Tee off with Gratitude
DESCRIPTION:Tee off with Gratitude at Rock Creek \n• • • • • \nSpecial tee time rates for Senior\, Military\, and First Responder every Tuesday and Thursday. \n  \nThis summer\, we’re excited to offer special golf rates every Tuesday and Thursday\, all day long\, exclusively for seniors\, military personnel\, and first responders. \nThese rates will change and are only available when you call the Pro Shop! \nCall the Pro Shop today at (251) 928-4223 to book!
URL:https://rockcreekgolf.com/event/tee-off-with-gratitude/2029-07-31/
END:VEVENT
BEGIN:VEVENT
DTSTART;VALUE=DATE:20290802
DTEND;VALUE=DATE:20290803
DTSTAMP:20260423T115722
CREATED:20250710T123317Z
LAST-MODIFIED:20250710T123317Z
UID:10000609-1880323200-1880409599@rockcreekgolf.com
SUMMARY:Tee off with Gratitude
DESCRIPTION:Tee off with Gratitude at Rock Creek \n• • • • • \nSpecial tee time rates for Senior\, Military\, and First Responder every Tuesday and Thursday. \n  \nThis summer\, we’re excited to offer special golf rates every Tuesday and Thursday\, all day long\, exclusively for seniors\, military personnel\, and first responders. \nThese rates will change and are only available when you call the Pro Shop! \nCall the Pro Shop today at (251) 928-4223 to book!
URL:https://rockcreekgolf.com/event/tee-off-with-gratitude/2029-08-02/
END:VEVENT
BEGIN:VEVENT
DTSTART;VALUE=DATE:20290807
DTEND;VALUE=DATE:20290808
DTSTAMP:20260423T115722
CREATED:20250710T123317Z
LAST-MODIFIED:20250710T123317Z
UID:10000610-1880755200-1880841599@rockcreekgolf.com
SUMMARY:Tee off with Gratitude
DESCRIPTION:Tee off with Gratitude at Rock Creek \n• • • • • \nSpecial tee time rates for Senior\, Military\, and First Responder every Tuesday and Thursday. \n  \nThis summer\, we’re excited to offer special golf rates every Tuesday and Thursday\, all day long\, exclusively for seniors\, military personnel\, and first responders. \nThese rates will change and are only available when you call the Pro Shop! \nCall the Pro Shop today at (251) 928-4223 to book!
URL:https://rockcreekgolf.com/event/tee-off-with-gratitude/2029-08-07/
END:VEVENT
BEGIN:VEVENT
DTSTART;VALUE=DATE:20290809
DTEND;VALUE=DATE:20290810
DTSTAMP:20260423T115722
CREATED:20250710T123317Z
LAST-MODIFIED:20250710T123317Z
UID:10000611-1880928000-1881014399@rockcreekgolf.com
SUMMARY:Tee off with Gratitude
DESCRIPTION:Tee off with Gratitude at Rock Creek \n• • • • • \nSpecial tee time rates for Senior\, Military\, and First Responder every Tuesday and Thursday. \n  \nThis summer\, we’re excited to offer special golf rates every Tuesday and Thursday\, all day long\, exclusively for seniors\, military personnel\, and first responders. \nThese rates will change and are only available when you call the Pro Shop! \nCall the Pro Shop today at (251) 928-4223 to book!
URL:https://rockcreekgolf.com/event/tee-off-with-gratitude/2029-08-09/
END:VEVENT
END:VCALENDAR