BEGIN:VCALENDAR
VERSION:2.0
PRODID:-//Rock Creek Golf Club - ECPv6.15.20//NONSGML v1.0//EN
CALSCALE:GREGORIAN
METHOD:PUBLISH
X-ORIGINAL-URL:https://rockcreekgolf.com
X-WR-CALDESC:Events for Rock Creek Golf Club
REFRESH-INTERVAL;VALUE=DURATION:PT1H
X-Robots-Tag:noindex
X-PUBLISHED-TTL:PT1H
BEGIN:VTIMEZONE
TZID:UTC
BEGIN:STANDARD
TZOFFSETFROM:+0000
TZOFFSETTO:+0000
TZNAME:UTC
DTSTART:20280101T000000
END:STANDARD
END:VTIMEZONE
BEGIN:VEVENT
DTSTART;VALUE=DATE:20290111
DTEND;VALUE=DATE:20290112
DTSTAMP:20260421T194215
CREATED:20250710T123317Z
LAST-MODIFIED:20250710T123317Z
UID:10000551-1862784000-1862870399@rockcreekgolf.com
SUMMARY:Tee off with Gratitude
DESCRIPTION:Tee off with Gratitude at Rock Creek \n• • • • • \nSpecial tee time rates for Senior\, Military\, and First Responder every Tuesday and Thursday. \n  \nThis summer\, we’re excited to offer special golf rates every Tuesday and Thursday\, all day long\, exclusively for seniors\, military personnel\, and first responders. \nThese rates will change and are only available when you call the Pro Shop! \nCall the Pro Shop today at (251) 928-4223 to book!
URL:https://rockcreekgolf.com/event/tee-off-with-gratitude/2029-01-11/
END:VEVENT
BEGIN:VEVENT
DTSTART;VALUE=DATE:20290116
DTEND;VALUE=DATE:20290117
DTSTAMP:20260421T194215
CREATED:20250710T123317Z
LAST-MODIFIED:20250710T123317Z
UID:10000552-1863216000-1863302399@rockcreekgolf.com
SUMMARY:Tee off with Gratitude
DESCRIPTION:Tee off with Gratitude at Rock Creek \n• • • • • \nSpecial tee time rates for Senior\, Military\, and First Responder every Tuesday and Thursday. \n  \nThis summer\, we’re excited to offer special golf rates every Tuesday and Thursday\, all day long\, exclusively for seniors\, military personnel\, and first responders. \nThese rates will change and are only available when you call the Pro Shop! \nCall the Pro Shop today at (251) 928-4223 to book!
URL:https://rockcreekgolf.com/event/tee-off-with-gratitude/2029-01-16/
END:VEVENT
BEGIN:VEVENT
DTSTART;VALUE=DATE:20290118
DTEND;VALUE=DATE:20290119
DTSTAMP:20260421T194215
CREATED:20250710T123317Z
LAST-MODIFIED:20250710T123317Z
UID:10000553-1863388800-1863475199@rockcreekgolf.com
SUMMARY:Tee off with Gratitude
DESCRIPTION:Tee off with Gratitude at Rock Creek \n• • • • • \nSpecial tee time rates for Senior\, Military\, and First Responder every Tuesday and Thursday. \n  \nThis summer\, we’re excited to offer special golf rates every Tuesday and Thursday\, all day long\, exclusively for seniors\, military personnel\, and first responders. \nThese rates will change and are only available when you call the Pro Shop! \nCall the Pro Shop today at (251) 928-4223 to book!
URL:https://rockcreekgolf.com/event/tee-off-with-gratitude/2029-01-18/
END:VEVENT
BEGIN:VEVENT
DTSTART;VALUE=DATE:20290123
DTEND;VALUE=DATE:20290124
DTSTAMP:20260421T194215
CREATED:20250710T123317Z
LAST-MODIFIED:20250710T123317Z
UID:10000554-1863820800-1863907199@rockcreekgolf.com
SUMMARY:Tee off with Gratitude
DESCRIPTION:Tee off with Gratitude at Rock Creek \n• • • • • \nSpecial tee time rates for Senior\, Military\, and First Responder every Tuesday and Thursday. \n  \nThis summer\, we’re excited to offer special golf rates every Tuesday and Thursday\, all day long\, exclusively for seniors\, military personnel\, and first responders. \nThese rates will change and are only available when you call the Pro Shop! \nCall the Pro Shop today at (251) 928-4223 to book!
URL:https://rockcreekgolf.com/event/tee-off-with-gratitude/2029-01-23/
END:VEVENT
BEGIN:VEVENT
DTSTART;VALUE=DATE:20290125
DTEND;VALUE=DATE:20290126
DTSTAMP:20260421T194215
CREATED:20250710T123317Z
LAST-MODIFIED:20250710T123317Z
UID:10000555-1863993600-1864079999@rockcreekgolf.com
SUMMARY:Tee off with Gratitude
DESCRIPTION:Tee off with Gratitude at Rock Creek \n• • • • • \nSpecial tee time rates for Senior\, Military\, and First Responder every Tuesday and Thursday. \n  \nThis summer\, we’re excited to offer special golf rates every Tuesday and Thursday\, all day long\, exclusively for seniors\, military personnel\, and first responders. \nThese rates will change and are only available when you call the Pro Shop! \nCall the Pro Shop today at (251) 928-4223 to book!
URL:https://rockcreekgolf.com/event/tee-off-with-gratitude/2029-01-25/
END:VEVENT
BEGIN:VEVENT
DTSTART;VALUE=DATE:20290130
DTEND;VALUE=DATE:20290131
DTSTAMP:20260421T194215
CREATED:20250710T123317Z
LAST-MODIFIED:20250710T123317Z
UID:10000556-1864425600-1864511999@rockcreekgolf.com
SUMMARY:Tee off with Gratitude
DESCRIPTION:Tee off with Gratitude at Rock Creek \n• • • • • \nSpecial tee time rates for Senior\, Military\, and First Responder every Tuesday and Thursday. \n  \nThis summer\, we’re excited to offer special golf rates every Tuesday and Thursday\, all day long\, exclusively for seniors\, military personnel\, and first responders. \nThese rates will change and are only available when you call the Pro Shop! \nCall the Pro Shop today at (251) 928-4223 to book!
URL:https://rockcreekgolf.com/event/tee-off-with-gratitude/2029-01-30/
END:VEVENT
BEGIN:VEVENT
DTSTART;VALUE=DATE:20290201
DTEND;VALUE=DATE:20290202
DTSTAMP:20260421T194215
CREATED:20250710T123317Z
LAST-MODIFIED:20250710T123317Z
UID:10000557-1864598400-1864684799@rockcreekgolf.com
SUMMARY:Tee off with Gratitude
DESCRIPTION:Tee off with Gratitude at Rock Creek \n• • • • • \nSpecial tee time rates for Senior\, Military\, and First Responder every Tuesday and Thursday. \n  \nThis summer\, we’re excited to offer special golf rates every Tuesday and Thursday\, all day long\, exclusively for seniors\, military personnel\, and first responders. \nThese rates will change and are only available when you call the Pro Shop! \nCall the Pro Shop today at (251) 928-4223 to book!
URL:https://rockcreekgolf.com/event/tee-off-with-gratitude/2029-02-01/
END:VEVENT
BEGIN:VEVENT
DTSTART;VALUE=DATE:20290206
DTEND;VALUE=DATE:20290207
DTSTAMP:20260421T194215
CREATED:20250710T123317Z
LAST-MODIFIED:20250710T123317Z
UID:10000558-1865030400-1865116799@rockcreekgolf.com
SUMMARY:Tee off with Gratitude
DESCRIPTION:Tee off with Gratitude at Rock Creek \n• • • • • \nSpecial tee time rates for Senior\, Military\, and First Responder every Tuesday and Thursday. \n  \nThis summer\, we’re excited to offer special golf rates every Tuesday and Thursday\, all day long\, exclusively for seniors\, military personnel\, and first responders. \nThese rates will change and are only available when you call the Pro Shop! \nCall the Pro Shop today at (251) 928-4223 to book!
URL:https://rockcreekgolf.com/event/tee-off-with-gratitude/2029-02-06/
END:VEVENT
BEGIN:VEVENT
DTSTART;VALUE=DATE:20290208
DTEND;VALUE=DATE:20290209
DTSTAMP:20260421T194215
CREATED:20250710T123317Z
LAST-MODIFIED:20250710T123317Z
UID:10000559-1865203200-1865289599@rockcreekgolf.com
SUMMARY:Tee off with Gratitude
DESCRIPTION:Tee off with Gratitude at Rock Creek \n• • • • • \nSpecial tee time rates for Senior\, Military\, and First Responder every Tuesday and Thursday. \n  \nThis summer\, we’re excited to offer special golf rates every Tuesday and Thursday\, all day long\, exclusively for seniors\, military personnel\, and first responders. \nThese rates will change and are only available when you call the Pro Shop! \nCall the Pro Shop today at (251) 928-4223 to book!
URL:https://rockcreekgolf.com/event/tee-off-with-gratitude/2029-02-08/
END:VEVENT
BEGIN:VEVENT
DTSTART;VALUE=DATE:20290213
DTEND;VALUE=DATE:20290214
DTSTAMP:20260421T194215
CREATED:20250710T123317Z
LAST-MODIFIED:20250710T123317Z
UID:10000560-1865635200-1865721599@rockcreekgolf.com
SUMMARY:Tee off with Gratitude
DESCRIPTION:Tee off with Gratitude at Rock Creek \n• • • • • \nSpecial tee time rates for Senior\, Military\, and First Responder every Tuesday and Thursday. \n  \nThis summer\, we’re excited to offer special golf rates every Tuesday and Thursday\, all day long\, exclusively for seniors\, military personnel\, and first responders. \nThese rates will change and are only available when you call the Pro Shop! \nCall the Pro Shop today at (251) 928-4223 to book!
URL:https://rockcreekgolf.com/event/tee-off-with-gratitude/2029-02-13/
END:VEVENT
BEGIN:VEVENT
DTSTART;VALUE=DATE:20290215
DTEND;VALUE=DATE:20290216
DTSTAMP:20260421T194215
CREATED:20250710T123317Z
LAST-MODIFIED:20250710T123317Z
UID:10000561-1865808000-1865894399@rockcreekgolf.com
SUMMARY:Tee off with Gratitude
DESCRIPTION:Tee off with Gratitude at Rock Creek \n• • • • • \nSpecial tee time rates for Senior\, Military\, and First Responder every Tuesday and Thursday. \n  \nThis summer\, we’re excited to offer special golf rates every Tuesday and Thursday\, all day long\, exclusively for seniors\, military personnel\, and first responders. \nThese rates will change and are only available when you call the Pro Shop! \nCall the Pro Shop today at (251) 928-4223 to book!
URL:https://rockcreekgolf.com/event/tee-off-with-gratitude/2029-02-15/
END:VEVENT
BEGIN:VEVENT
DTSTART;VALUE=DATE:20290220
DTEND;VALUE=DATE:20290221
DTSTAMP:20260421T194215
CREATED:20250710T123317Z
LAST-MODIFIED:20250710T123317Z
UID:10000562-1866240000-1866326399@rockcreekgolf.com
SUMMARY:Tee off with Gratitude
DESCRIPTION:Tee off with Gratitude at Rock Creek \n• • • • • \nSpecial tee time rates for Senior\, Military\, and First Responder every Tuesday and Thursday. \n  \nThis summer\, we’re excited to offer special golf rates every Tuesday and Thursday\, all day long\, exclusively for seniors\, military personnel\, and first responders. \nThese rates will change and are only available when you call the Pro Shop! \nCall the Pro Shop today at (251) 928-4223 to book!
URL:https://rockcreekgolf.com/event/tee-off-with-gratitude/2029-02-20/
END:VEVENT
BEGIN:VEVENT
DTSTART;VALUE=DATE:20290222
DTEND;VALUE=DATE:20290223
DTSTAMP:20260421T194215
CREATED:20250710T123317Z
LAST-MODIFIED:20250710T123317Z
UID:10000563-1866412800-1866499199@rockcreekgolf.com
SUMMARY:Tee off with Gratitude
DESCRIPTION:Tee off with Gratitude at Rock Creek \n• • • • • \nSpecial tee time rates for Senior\, Military\, and First Responder every Tuesday and Thursday. \n  \nThis summer\, we’re excited to offer special golf rates every Tuesday and Thursday\, all day long\, exclusively for seniors\, military personnel\, and first responders. \nThese rates will change and are only available when you call the Pro Shop! \nCall the Pro Shop today at (251) 928-4223 to book!
URL:https://rockcreekgolf.com/event/tee-off-with-gratitude/2029-02-22/
END:VEVENT
BEGIN:VEVENT
DTSTART;VALUE=DATE:20290227
DTEND;VALUE=DATE:20290228
DTSTAMP:20260421T194215
CREATED:20250710T123317Z
LAST-MODIFIED:20250710T123317Z
UID:10000564-1866844800-1866931199@rockcreekgolf.com
SUMMARY:Tee off with Gratitude
DESCRIPTION:Tee off with Gratitude at Rock Creek \n• • • • • \nSpecial tee time rates for Senior\, Military\, and First Responder every Tuesday and Thursday. \n  \nThis summer\, we’re excited to offer special golf rates every Tuesday and Thursday\, all day long\, exclusively for seniors\, military personnel\, and first responders. \nThese rates will change and are only available when you call the Pro Shop! \nCall the Pro Shop today at (251) 928-4223 to book!
URL:https://rockcreekgolf.com/event/tee-off-with-gratitude/2029-02-27/
END:VEVENT
BEGIN:VEVENT
DTSTART;VALUE=DATE:20290301
DTEND;VALUE=DATE:20290302
DTSTAMP:20260421T194215
CREATED:20250710T123317Z
LAST-MODIFIED:20250710T123317Z
UID:10000565-1867017600-1867103999@rockcreekgolf.com
SUMMARY:Tee off with Gratitude
DESCRIPTION:Tee off with Gratitude at Rock Creek \n• • • • • \nSpecial tee time rates for Senior\, Military\, and First Responder every Tuesday and Thursday. \n  \nThis summer\, we’re excited to offer special golf rates every Tuesday and Thursday\, all day long\, exclusively for seniors\, military personnel\, and first responders. \nThese rates will change and are only available when you call the Pro Shop! \nCall the Pro Shop today at (251) 928-4223 to book!
URL:https://rockcreekgolf.com/event/tee-off-with-gratitude/2029-03-01/
END:VEVENT
BEGIN:VEVENT
DTSTART;VALUE=DATE:20290306
DTEND;VALUE=DATE:20290307
DTSTAMP:20260421T194215
CREATED:20250710T123317Z
LAST-MODIFIED:20250710T123317Z
UID:10000566-1867449600-1867535999@rockcreekgolf.com
SUMMARY:Tee off with Gratitude
DESCRIPTION:Tee off with Gratitude at Rock Creek \n• • • • • \nSpecial tee time rates for Senior\, Military\, and First Responder every Tuesday and Thursday. \n  \nThis summer\, we’re excited to offer special golf rates every Tuesday and Thursday\, all day long\, exclusively for seniors\, military personnel\, and first responders. \nThese rates will change and are only available when you call the Pro Shop! \nCall the Pro Shop today at (251) 928-4223 to book!
URL:https://rockcreekgolf.com/event/tee-off-with-gratitude/2029-03-06/
END:VEVENT
BEGIN:VEVENT
DTSTART;VALUE=DATE:20290308
DTEND;VALUE=DATE:20290309
DTSTAMP:20260421T194215
CREATED:20250710T123317Z
LAST-MODIFIED:20250710T123317Z
UID:10000567-1867622400-1867708799@rockcreekgolf.com
SUMMARY:Tee off with Gratitude
DESCRIPTION:Tee off with Gratitude at Rock Creek \n• • • • • \nSpecial tee time rates for Senior\, Military\, and First Responder every Tuesday and Thursday. \n  \nThis summer\, we’re excited to offer special golf rates every Tuesday and Thursday\, all day long\, exclusively for seniors\, military personnel\, and first responders. \nThese rates will change and are only available when you call the Pro Shop! \nCall the Pro Shop today at (251) 928-4223 to book!
URL:https://rockcreekgolf.com/event/tee-off-with-gratitude/2029-03-08/
END:VEVENT
BEGIN:VEVENT
DTSTART;VALUE=DATE:20290313
DTEND;VALUE=DATE:20290314
DTSTAMP:20260421T194215
CREATED:20250710T123317Z
LAST-MODIFIED:20250710T123317Z
UID:10000568-1868054400-1868140799@rockcreekgolf.com
SUMMARY:Tee off with Gratitude
DESCRIPTION:Tee off with Gratitude at Rock Creek \n• • • • • \nSpecial tee time rates for Senior\, Military\, and First Responder every Tuesday and Thursday. \n  \nThis summer\, we’re excited to offer special golf rates every Tuesday and Thursday\, all day long\, exclusively for seniors\, military personnel\, and first responders. \nThese rates will change and are only available when you call the Pro Shop! \nCall the Pro Shop today at (251) 928-4223 to book!
URL:https://rockcreekgolf.com/event/tee-off-with-gratitude/2029-03-13/
END:VEVENT
BEGIN:VEVENT
DTSTART;VALUE=DATE:20290315
DTEND;VALUE=DATE:20290316
DTSTAMP:20260421T194215
CREATED:20250710T123317Z
LAST-MODIFIED:20250710T123317Z
UID:10000569-1868227200-1868313599@rockcreekgolf.com
SUMMARY:Tee off with Gratitude
DESCRIPTION:Tee off with Gratitude at Rock Creek \n• • • • • \nSpecial tee time rates for Senior\, Military\, and First Responder every Tuesday and Thursday. \n  \nThis summer\, we’re excited to offer special golf rates every Tuesday and Thursday\, all day long\, exclusively for seniors\, military personnel\, and first responders. \nThese rates will change and are only available when you call the Pro Shop! \nCall the Pro Shop today at (251) 928-4223 to book!
URL:https://rockcreekgolf.com/event/tee-off-with-gratitude/2029-03-15/
END:VEVENT
BEGIN:VEVENT
DTSTART;VALUE=DATE:20290320
DTEND;VALUE=DATE:20290321
DTSTAMP:20260421T194215
CREATED:20250710T123317Z
LAST-MODIFIED:20250710T123317Z
UID:10000570-1868659200-1868745599@rockcreekgolf.com
SUMMARY:Tee off with Gratitude
DESCRIPTION:Tee off with Gratitude at Rock Creek \n• • • • • \nSpecial tee time rates for Senior\, Military\, and First Responder every Tuesday and Thursday. \n  \nThis summer\, we’re excited to offer special golf rates every Tuesday and Thursday\, all day long\, exclusively for seniors\, military personnel\, and first responders. \nThese rates will change and are only available when you call the Pro Shop! \nCall the Pro Shop today at (251) 928-4223 to book!
URL:https://rockcreekgolf.com/event/tee-off-with-gratitude/2029-03-20/
END:VEVENT
BEGIN:VEVENT
DTSTART;VALUE=DATE:20290322
DTEND;VALUE=DATE:20290323
DTSTAMP:20260421T194215
CREATED:20250710T123317Z
LAST-MODIFIED:20250710T123317Z
UID:10000571-1868832000-1868918399@rockcreekgolf.com
SUMMARY:Tee off with Gratitude
DESCRIPTION:Tee off with Gratitude at Rock Creek \n• • • • • \nSpecial tee time rates for Senior\, Military\, and First Responder every Tuesday and Thursday. \n  \nThis summer\, we’re excited to offer special golf rates every Tuesday and Thursday\, all day long\, exclusively for seniors\, military personnel\, and first responders. \nThese rates will change and are only available when you call the Pro Shop! \nCall the Pro Shop today at (251) 928-4223 to book!
URL:https://rockcreekgolf.com/event/tee-off-with-gratitude/2029-03-22/
END:VEVENT
BEGIN:VEVENT
DTSTART;VALUE=DATE:20290327
DTEND;VALUE=DATE:20290328
DTSTAMP:20260421T194215
CREATED:20250710T123317Z
LAST-MODIFIED:20250710T123317Z
UID:10000572-1869264000-1869350399@rockcreekgolf.com
SUMMARY:Tee off with Gratitude
DESCRIPTION:Tee off with Gratitude at Rock Creek \n• • • • • \nSpecial tee time rates for Senior\, Military\, and First Responder every Tuesday and Thursday. \n  \nThis summer\, we’re excited to offer special golf rates every Tuesday and Thursday\, all day long\, exclusively for seniors\, military personnel\, and first responders. \nThese rates will change and are only available when you call the Pro Shop! \nCall the Pro Shop today at (251) 928-4223 to book!
URL:https://rockcreekgolf.com/event/tee-off-with-gratitude/2029-03-27/
END:VEVENT
BEGIN:VEVENT
DTSTART;VALUE=DATE:20290329
DTEND;VALUE=DATE:20290330
DTSTAMP:20260421T194215
CREATED:20250710T123317Z
LAST-MODIFIED:20250710T123317Z
UID:10000573-1869436800-1869523199@rockcreekgolf.com
SUMMARY:Tee off with Gratitude
DESCRIPTION:Tee off with Gratitude at Rock Creek \n• • • • • \nSpecial tee time rates for Senior\, Military\, and First Responder every Tuesday and Thursday. \n  \nThis summer\, we’re excited to offer special golf rates every Tuesday and Thursday\, all day long\, exclusively for seniors\, military personnel\, and first responders. \nThese rates will change and are only available when you call the Pro Shop! \nCall the Pro Shop today at (251) 928-4223 to book!
URL:https://rockcreekgolf.com/event/tee-off-with-gratitude/2029-03-29/
END:VEVENT
BEGIN:VEVENT
DTSTART;VALUE=DATE:20290403
DTEND;VALUE=DATE:20290404
DTSTAMP:20260421T194215
CREATED:20250710T123317Z
LAST-MODIFIED:20250710T123317Z
UID:10000574-1869868800-1869955199@rockcreekgolf.com
SUMMARY:Tee off with Gratitude
DESCRIPTION:Tee off with Gratitude at Rock Creek \n• • • • • \nSpecial tee time rates for Senior\, Military\, and First Responder every Tuesday and Thursday. \n  \nThis summer\, we’re excited to offer special golf rates every Tuesday and Thursday\, all day long\, exclusively for seniors\, military personnel\, and first responders. \nThese rates will change and are only available when you call the Pro Shop! \nCall the Pro Shop today at (251) 928-4223 to book!
URL:https://rockcreekgolf.com/event/tee-off-with-gratitude/2029-04-03/
END:VEVENT
BEGIN:VEVENT
DTSTART;VALUE=DATE:20290405
DTEND;VALUE=DATE:20290406
DTSTAMP:20260421T194215
CREATED:20250710T123317Z
LAST-MODIFIED:20250710T123317Z
UID:10000575-1870041600-1870127999@rockcreekgolf.com
SUMMARY:Tee off with Gratitude
DESCRIPTION:Tee off with Gratitude at Rock Creek \n• • • • • \nSpecial tee time rates for Senior\, Military\, and First Responder every Tuesday and Thursday. \n  \nThis summer\, we’re excited to offer special golf rates every Tuesday and Thursday\, all day long\, exclusively for seniors\, military personnel\, and first responders. \nThese rates will change and are only available when you call the Pro Shop! \nCall the Pro Shop today at (251) 928-4223 to book!
URL:https://rockcreekgolf.com/event/tee-off-with-gratitude/2029-04-05/
END:VEVENT
BEGIN:VEVENT
DTSTART;VALUE=DATE:20290410
DTEND;VALUE=DATE:20290411
DTSTAMP:20260421T194215
CREATED:20250710T123317Z
LAST-MODIFIED:20250710T123317Z
UID:10000576-1870473600-1870559999@rockcreekgolf.com
SUMMARY:Tee off with Gratitude
DESCRIPTION:Tee off with Gratitude at Rock Creek \n• • • • • \nSpecial tee time rates for Senior\, Military\, and First Responder every Tuesday and Thursday. \n  \nThis summer\, we’re excited to offer special golf rates every Tuesday and Thursday\, all day long\, exclusively for seniors\, military personnel\, and first responders. \nThese rates will change and are only available when you call the Pro Shop! \nCall the Pro Shop today at (251) 928-4223 to book!
URL:https://rockcreekgolf.com/event/tee-off-with-gratitude/2029-04-10/
END:VEVENT
BEGIN:VEVENT
DTSTART;VALUE=DATE:20290412
DTEND;VALUE=DATE:20290413
DTSTAMP:20260421T194215
CREATED:20250710T123317Z
LAST-MODIFIED:20250710T123317Z
UID:10000577-1870646400-1870732799@rockcreekgolf.com
SUMMARY:Tee off with Gratitude
DESCRIPTION:Tee off with Gratitude at Rock Creek \n• • • • • \nSpecial tee time rates for Senior\, Military\, and First Responder every Tuesday and Thursday. \n  \nThis summer\, we’re excited to offer special golf rates every Tuesday and Thursday\, all day long\, exclusively for seniors\, military personnel\, and first responders. \nThese rates will change and are only available when you call the Pro Shop! \nCall the Pro Shop today at (251) 928-4223 to book!
URL:https://rockcreekgolf.com/event/tee-off-with-gratitude/2029-04-12/
END:VEVENT
BEGIN:VEVENT
DTSTART;VALUE=DATE:20290417
DTEND;VALUE=DATE:20290418
DTSTAMP:20260421T194215
CREATED:20250710T123317Z
LAST-MODIFIED:20250710T123317Z
UID:10000578-1871078400-1871164799@rockcreekgolf.com
SUMMARY:Tee off with Gratitude
DESCRIPTION:Tee off with Gratitude at Rock Creek \n• • • • • \nSpecial tee time rates for Senior\, Military\, and First Responder every Tuesday and Thursday. \n  \nThis summer\, we’re excited to offer special golf rates every Tuesday and Thursday\, all day long\, exclusively for seniors\, military personnel\, and first responders. \nThese rates will change and are only available when you call the Pro Shop! \nCall the Pro Shop today at (251) 928-4223 to book!
URL:https://rockcreekgolf.com/event/tee-off-with-gratitude/2029-04-17/
END:VEVENT
BEGIN:VEVENT
DTSTART;VALUE=DATE:20290419
DTEND;VALUE=DATE:20290420
DTSTAMP:20260421T194215
CREATED:20250710T123317Z
LAST-MODIFIED:20250710T123317Z
UID:10000579-1871251200-1871337599@rockcreekgolf.com
SUMMARY:Tee off with Gratitude
DESCRIPTION:Tee off with Gratitude at Rock Creek \n• • • • • \nSpecial tee time rates for Senior\, Military\, and First Responder every Tuesday and Thursday. \n  \nThis summer\, we’re excited to offer special golf rates every Tuesday and Thursday\, all day long\, exclusively for seniors\, military personnel\, and first responders. \nThese rates will change and are only available when you call the Pro Shop! \nCall the Pro Shop today at (251) 928-4223 to book!
URL:https://rockcreekgolf.com/event/tee-off-with-gratitude/2029-04-19/
END:VEVENT
BEGIN:VEVENT
DTSTART;VALUE=DATE:20290424
DTEND;VALUE=DATE:20290425
DTSTAMP:20260421T194215
CREATED:20250710T123317Z
LAST-MODIFIED:20250710T123317Z
UID:10000580-1871683200-1871769599@rockcreekgolf.com
SUMMARY:Tee off with Gratitude
DESCRIPTION:Tee off with Gratitude at Rock Creek \n• • • • • \nSpecial tee time rates for Senior\, Military\, and First Responder every Tuesday and Thursday. \n  \nThis summer\, we’re excited to offer special golf rates every Tuesday and Thursday\, all day long\, exclusively for seniors\, military personnel\, and first responders. \nThese rates will change and are only available when you call the Pro Shop! \nCall the Pro Shop today at (251) 928-4223 to book!
URL:https://rockcreekgolf.com/event/tee-off-with-gratitude/2029-04-24/
END:VEVENT
END:VCALENDAR