BEGIN:VCALENDAR
VERSION:2.0
PRODID:-//Rock Creek Golf Club - ECPv6.15.20//NONSGML v1.0//EN
CALSCALE:GREGORIAN
METHOD:PUBLISH
X-WR-CALNAME:Rock Creek Golf Club
X-ORIGINAL-URL:https://rockcreekgolf.com
X-WR-CALDESC:Events for Rock Creek Golf Club
REFRESH-INTERVAL;VALUE=DURATION:PT1H
X-Robots-Tag:noindex
X-PUBLISHED-TTL:PT1H
BEGIN:VTIMEZONE
TZID:UTC
BEGIN:STANDARD
TZOFFSETFROM:+0000
TZOFFSETTO:+0000
TZNAME:UTC
DTSTART:20250101T000000
END:STANDARD
END:VTIMEZONE
BEGIN:VEVENT
DTSTART;VALUE=DATE:20260417
DTEND;VALUE=DATE:20260419
DTSTAMP:20260423T085525
CREATED:20251125T210527Z
LAST-MODIFIED:20251125T210527Z
UID:10000795-1776384000-1776556799@rockcreekgolf.com
SUMMARY:Member/Guest
DESCRIPTION:
URL:https://rockcreekgolf.com/event/member-guest-3/
END:VEVENT
BEGIN:VEVENT
DTSTART;TZID=UTC:20260417T163600
DTEND;TZID=UTC:20260417T190000
DTSTAMP:20260423T085525
CREATED:20260320T193748Z
LAST-MODIFIED:20260320T193748Z
UID:10000827-1776443760-1776452400@rockcreekgolf.com
SUMMARY:Spark Golf
DESCRIPTION:
URL:https://rockcreekgolf.com/event/spark-golf-32/2026-04-17/
END:VEVENT
END:VCALENDAR