BEGIN:VCALENDAR
VERSION:2.0
PRODID:-//Rock Creek Golf Club - ECPv6.15.20//NONSGML v1.0//EN
CALSCALE:GREGORIAN
METHOD:PUBLISH
X-WR-CALNAME:Rock Creek Golf Club
X-ORIGINAL-URL:https://rockcreekgolf.com
X-WR-CALDESC:Events for Rock Creek Golf Club
REFRESH-INTERVAL;VALUE=DURATION:PT1H
X-Robots-Tag:noindex
X-PUBLISHED-TTL:PT1H
BEGIN:VTIMEZONE
TZID:UTC
BEGIN:STANDARD
TZOFFSETFROM:+0000
TZOFFSETTO:+0000
TZNAME:UTC
DTSTART:20250101T000000
END:STANDARD
END:VTIMEZONE
BEGIN:VEVENT
DTSTART;VALUE=DATE:20260312
DTEND;VALUE=DATE:20260313
DTSTAMP:20260423T140012
CREATED:20250710T123317Z
LAST-MODIFIED:20250710T123317Z
UID:10000255-1773273600-1773359999@rockcreekgolf.com
SUMMARY:Tee off with Gratitude
DESCRIPTION:Tee off with Gratitude at Rock Creek \n• • • • • \nSpecial tee time rates for Senior\, Military\, and First Responder every Tuesday and Thursday. \n  \nThis summer\, we’re excited to offer special golf rates every Tuesday and Thursday\, all day long\, exclusively for seniors\, military personnel\, and first responders. \nThese rates will change and are only available when you call the Pro Shop! \nCall the Pro Shop today at (251) 928-4223 to book!
URL:https://rockcreekgolf.com/event/tee-off-with-gratitude/2026-03-12/
END:VEVENT
BEGIN:VEVENT
DTSTART;TZID=UTC:20260312T100000
DTEND;TZID=UTC:20260312T140000
DTSTAMP:20260423T140012
CREATED:20260303T154104Z
LAST-MODIFIED:20260303T154104Z
UID:10000820-1773309600-1773324000@rockcreekgolf.com
SUMMARY:XXIO Experience Day
DESCRIPTION:
URL:https://rockcreekgolf.com/event/xxio-experience-day/
END:VEVENT
END:VCALENDAR