BEGIN:VCALENDAR
VERSION:2.0
PRODID:-//Rock Creek Golf Club - ECPv6.15.20//NONSGML v1.0//EN
CALSCALE:GREGORIAN
METHOD:PUBLISH
X-ORIGINAL-URL:https://rockcreekgolf.com
X-WR-CALDESC:Events for Rock Creek Golf Club
REFRESH-INTERVAL;VALUE=DURATION:PT1H
X-Robots-Tag:noindex
X-PUBLISHED-TTL:PT1H
BEGIN:VTIMEZONE
TZID:UTC
BEGIN:STANDARD
TZOFFSETFROM:+0000
TZOFFSETTO:+0000
TZNAME:UTC
DTSTART:20250101T000000
END:STANDARD
END:VTIMEZONE
BEGIN:VEVENT
DTSTART;TZID=UTC:20260204T100000
DTEND;TZID=UTC:20260204T170000
DTSTAMP:20260425T153849
CREATED:20260109T140349Z
LAST-MODIFIED:20260109T141121Z
UID:10000808-1770199200-1770224400@rockcreekgolf.com
SUMMARY:Titleist Fitting Day
DESCRIPTION:Experience a TOUR- Quality Fitting with Titleist \n\nThe Titleist club fitting experts are coming to Rock Creek Golf Club on Wednesday\, February 4 at 10:00 am. \n\nGet Fit For Everything \nYour Fitting Specialist will have the full range of Titleist Metals\, Irons\, and Wedges\, along with a diverse shaft matrix\, so you can dial in your bag. We will also provide you with a premium Golf Ball recommendation. \n\nAdvanced Technology \nYour fitter will use advanced SureFit and TrackMan technology to optimize your equipment specs. \n\nSpace is limited\, so reserve your spot now HERE.
URL:https://rockcreekgolf.com/event/titleist-fitting-day/
END:VEVENT
END:VCALENDAR